Workbook

Sheet Sheet1
B1: SCALE COMPUTER
B2: Rev. 2
B3: 44494
B6: Select Note: | C6: E
C8: R | D8: b2 | E8: 2 | F8: b3 | G8: 3 | H8: 4 | I8: b5 | J8: 5 | K8: b6 | L8: 6 | M8: b7 | N8: 7
B9: CHROMATIC | C9: =VLOOKUP($C$6,Sheet2!$A$3:$L$19,Sheet2!A2) -> E | D9: =VLOOKUP($C$6,Sheet2!$A$3:$L$19,Sheet2!B2) -> F | E9: =VLOOKUP($C$6,Sheet2!$A$3:$L$19,Sheet2!C2) -> F# | F9: =VLOOKUP($C$6,Sheet2!$A$3:$L$19,Sheet2!D2) -> G | G9: =VLOOKUP($C$6,Sheet2!$A$3:$L$19,Sheet2!E2) -> G# | H9: =VLOOKUP($C$6,Sheet2!$A$3:$L$19,Sheet2!F2) -> A | I9: =VLOOKUP($C$6,Sheet2!$A$3:$L$19,Sheet2!G2) -> A# | J9: =VLOOKUP($C$6,Sheet2!$A$3:$L$19,Sheet2!H2) -> B | ... N9: =VLOOKUP($C$6,Sheet2!$A$3:$L$19,Sheet2!L2) -> D#
B12: DIATONIC | C12: 1 | D12: 2 | E12: 3 | F12: 4 | G12: 5 | H12: 6 | I12: 7 | L12: Scale Degrees | O12: TRIAD | P12: 7th Chord | Q12: Extensions
A13: 1 | B13: Ionian | C13: =VLOOKUP($C$6,Sheet2!$A$3:$L$19,1) -> E | D13: =VLOOKUP($C$6,Sheet2!$A$3:$L$19,3) -> F# | E13: =VLOOKUP($C$6,Sheet2!$A$3:$L$19,5) -> G# | F13: =VLOOKUP($C$6,Sheet2!$A$3:$L$19,6) -> A | G13: =VLOOKUP($C$6,Sheet2!$A$3:$L$19,8) -> B | H13: =VLOOKUP($C$6,Sheet2!$A$3:$L$19,10) -> C# | I13: =VLOOKUP($C$6,Sheet2!$A$3:$L$19,12) -> D# | L13: 1 - 2 - 3 - 4 - 5 - 6 -7 | O13: Maj | P13: Maj 7 | Q13: 9 | R13: 11 | S13: 13
A14: 2 | B14: Dorian | C14: =VLOOKUP($C$6,Sheet2!$A$3:$L$19,1) -> E | D14: =VLOOKUP($C$6,Sheet2!$A$3:$L$19,3) -> F# | E14: =VLOOKUP($C$6,Sheet2!$A$3:$L$19,4) -> G | F14: =VLOOKUP($C$6,Sheet2!$A$3:$L$19,6) -> A | G14: =VLOOKUP($C$6,Sheet2!$A$3:$L$19,8) -> B | H14: =VLOOKUP($C$6,Sheet2!$A$3:$L$19,10) -> C# | I14: =VLOOKUP($C$6,Sheet2!$A$3:$L$19,11) -> D | L14: 1 - 2 - b3 - 4 - 5 - 6 -b7 | O14: Min | P14: Min 7 | Q14: 9 | R14: 11 | S14: 13
A15: 3 | B15: Phyrgian | C15: =VLOOKUP($C$6,Sheet2!$A$3:$L$19,1) -> E | D15: =VLOOKUP($C$6,Sheet2!$A$3:$L$19,2) -> F | E15: =VLOOKUP($C$6,Sheet2!$A$3:$L$19,4) -> G | F15: =VLOOKUP($C$6,Sheet2!$A$3:$L$19,6) -> A | G15: =VLOOKUP($C$6,Sheet2!$A$3:$L$19,8) -> B | H15: =VLOOKUP($C$6,Sheet2!$A$3:$L$19,9) -> C | I15: =VLOOKUP($C$6,Sheet2!$A$3:$L$19,11) -> D | L15: 1 - b2 - b3 - 4 - 5 - b6 -b7 | O15: Min | P15: Min 7 | Q15: b9 | R15: 11 | S15: b13
A16: 4 | B16: Lydian | C16: =VLOOKUP($C$6,Sheet2!$A$3:$L$19,1) -> E | D16: =VLOOKUP($C$6,Sheet2!$A$3:$L$19,3) -> F# | E16: =VLOOKUP($C$6,Sheet2!$A$3:$L$19,5) -> G# | F16: =VLOOKUP($C$6,Sheet2!$A$3:$L$19,7) -> A# | G16: =VLOOKUP($C$6,Sheet2!$A$3:$L$19,8) -> B | H16: =VLOOKUP($C$6,Sheet2!$A$3:$L$19,10) -> C# | I16: =VLOOKUP($C$6,Sheet2!$A$3:$L$19,12) -> D# | L16: 1 - 2 - 3 - #4 - 5 - 6 -7 | O16: Maj | P16: Maj 7 | Q16: 9 | R16: #11 | S16: 13
A17: 5 | B17: Mixolydian | C17: =VLOOKUP($C$6,Sheet2!$A$3:$L$19,1) -> E | D17: =VLOOKUP($C$6,Sheet2!$A$3:$L$19,3) -> F# | E17: =VLOOKUP($C$6,Sheet2!$A$3:$L$19,5) -> G# | F17: =VLOOKUP($C$6,Sheet2!$A$3:$L$19,6) -> A | G17: =VLOOKUP($C$6,Sheet2!$A$3:$L$19,8) -> B | H17: =VLOOKUP($C$6,Sheet2!$A$3:$L$19,10) -> C# | I17: =VLOOKUP($C$6,Sheet2!$A$3:$L$19,11) -> D | L17: 1 - 2 - 3 - 4 - 5 - 6 -b7 | O17: Maj | P17: Dom 7 | Q17: 9 | R17: 11 | S17: 13
A18: 6 | B18: Aeolian | C18: =VLOOKUP($C$6,Sheet2!$A$3:$L$19,1) -> E | D18: =VLOOKUP($C$6,Sheet2!$A$3:$L$19,3) -> F# | E18: =VLOOKUP($C$6,Sheet2!$A$3:$L$19,4) -> G | F18: =VLOOKUP($C$6,Sheet2!$A$3:$L$19,6) -> A | G18: =VLOOKUP($C$6,Sheet2!$A$3:$L$19,8) -> B | H18: =VLOOKUP($C$6,Sheet2!$A$3:$L$19,9) -> C | I18: =VLOOKUP($C$6,Sheet2!$A$3:$L$19,11) -> D | L18: 1 - 2 - b3 - 4 - 5 - b6 -b7 | O18: Min | P18: Min 7 | Q18: 9 | R18: 11 | S18: b13
A19: 7 | B19: Locrian | C19: =VLOOKUP($C$6,Sheet2!$A$3:$L$19,1) -> E | D19: =VLOOKUP($C$6,Sheet2!$A$3:$L$19,2) -> F | E19: =VLOOKUP($C$6,Sheet2!$A$3:$L$19,4) -> G | F19: =VLOOKUP($C$6,Sheet2!$A$3:$L$19,6) -> A | G19: =VLOOKUP($C$6,Sheet2!$A$3:$L$19,7) -> A# | H19: =VLOOKUP($C$6,Sheet2!$A$3:$L$19,9) -> C | I19: =VLOOKUP($C$6,Sheet2!$A$3:$L$19,11) -> D | L19: 1 - b2 - b3 - 4 - b5 - b6 -b7 | O19: Dim | P19: Dim 7 | Q19: b9 | R19: 11 | S19: b13
B22: MELODIC MINOR | C22: 1 | D22: 2 | E22: 3 | F22: 4 | G22: 5 | H22: 6 | I22: 7 | L22: Scale Degrees | O22: TRIAD | P22: 7th Chord | Q22: Extensions
A23: 1 | B23: Melodic Minor | C23: =VLOOKUP($C$6,Sheet2!$A$3:$L$19,1) -> E | D23: =VLOOKUP($C$6,Sheet2!$A$3:$L$19,3) -> F# | E23: =VLOOKUP($C$6,Sheet2!$A$3:$L$19,4) -> G | F23: =VLOOKUP($C$6,Sheet2!$A$3:$L$19,6) -> A | G23: =VLOOKUP($C$6,Sheet2!$A$3:$L$19,8) -> B | H23: =VLOOKUP($C$6,Sheet2!$A$3:$L$19,10) -> C# | I23: =VLOOKUP($C$6,Sheet2!$A$3:$L$19,12) -> D# | L23: 1 - 2 - b3 - 4 - 5 - 6 -7 | O23: Min | P23: Min/Maj 7 | Q23: 9 | R23: 11 | S23: 13
A24: 2 | B24: Dorian b2 | C24: =VLOOKUP($C$6,Sheet2!$A$3:$L$19,1) -> E | D24: =VLOOKUP($C$6,Sheet2!$A$3:$L$19,2) -> F | E24: =VLOOKUP($C$6,Sheet2!$A$3:$L$19,4) -> G | F24: =VLOOKUP($C$6,Sheet2!$A$3:$L$19,6) -> A | G24: =VLOOKUP($C$6,Sheet2!$A$3:$L$19,8) -> B | H24: =VLOOKUP($C$6,Sheet2!$A$3:$L$19,10) -> C# | I24: =VLOOKUP($C$6,Sheet2!$A$3:$L$19,11) -> D | L24: 1 - b2 - b3 - 4 - 5 - 6 -b7 | O24: Min | P24: Min 7 | Q24: b9 | R24: 11 | S24: 13
A25: 3 | B25: Lydian Augmented | C25: =VLOOKUP($C$6,Sheet2!$A$3:$L$19,1) -> E | D25: =VLOOKUP($C$6,Sheet2!$A$3:$L$19,3) -> F# | E25: =VLOOKUP($C$6,Sheet2!$A$3:$L$19,5) -> G# | F25: =VLOOKUP($C$6,Sheet2!$A$3:$L$19,7) -> A# | G25: =VLOOKUP($C$6,Sheet2!$A$3:$L$19,9) -> C | H25: =VLOOKUP($C$6,Sheet2!$A$3:$L$19,10) -> C# | I25: =VLOOKUP($C$6,Sheet2!$A$3:$L$19,12) -> D# | L25: 1 - 2 - 3 - #4 - #5 - 6 -7 | O25: Aug | P25: Aug Maj 7 | Q25: 9 | R25: 11 | S25: 13
A26: 4 | B26: Lydian Dominant | C26: =VLOOKUP($C$6,Sheet2!$A$3:$L$19,1) -> E | D26: =VLOOKUP($C$6,Sheet2!$A$3:$L$19,3) -> F# | E26: =VLOOKUP($C$6,Sheet2!$A$3:$L$19,5) -> G# | F26: =VLOOKUP($C$6,Sheet2!$A$3:$L$19,7) -> A# | G26: =VLOOKUP($C$6,Sheet2!$A$3:$L$19,8) -> B | H26: =VLOOKUP($C$6,Sheet2!$A$3:$L$19,10) -> C# | I26: =VLOOKUP($C$6,Sheet2!$A$3:$L$19,11) -> D | L26: 1 - 2 - 3 - #4 - 5 - 6 -b7 | O26: Maj | P26: Maj 7 | Q26: 9 | R26: #11 | S26: 13
A27: 5 | B27: Mixolydian b6 | C27: =VLOOKUP($C$6,Sheet2!$A$3:$L$19,1) -> E | D27: =VLOOKUP($C$6,Sheet2!$A$3:$L$19,3) -> F# | E27: =VLOOKUP($C$6,Sheet2!$A$3:$L$19,5) -> G# | F27: =VLOOKUP($C$6,Sheet2!$A$3:$L$19,6) -> A | G27: =VLOOKUP($C$6,Sheet2!$A$3:$L$19,8) -> B | H27: =VLOOKUP($C$6,Sheet2!$A$3:$L$19,9) -> C | I27: =VLOOKUP($C$6,Sheet2!$A$3:$L$19,11) -> D | L27: 1 - 2 - 3 - 4 - 5 - 6 -b7 | O27: Maj | P27: Dom 7 | Q27: 9 | R27: 11 | S27: 13
A28: 6 | B28: Aeolian b5 | C28: =VLOOKUP($C$6,Sheet2!$A$3:$L$19,1) -> E | D28: =VLOOKUP($C$6,Sheet2!$A$3:$L$19,3) -> F# | E28: =VLOOKUP($C$6,Sheet2!$A$3:$L$19,4) -> G | F28: =VLOOKUP($C$6,Sheet2!$A$3:$L$19,6) -> A | G28: =VLOOKUP($C$6,Sheet2!$A$3:$L$19,7) -> A# | H28: =VLOOKUP($C$6,Sheet2!$A$3:$L$19,9) -> C | I28: =VLOOKUP($C$6,Sheet2!$A$3:$L$19,11) -> D | L28: 1 - 2 - b3 - 4 - 5 - b6 -b7 | O28: Min | P28: Min 7 | Q28: 9 | R28: 11 | S28: b13
A29: 7 | B29: Super Locrian | C29: =VLOOKUP($C$6,Sheet2!$A$3:$L$19,1) -> E | D29: =VLOOKUP($C$6,Sheet2!$A$3:$L$19,2) -> F | E29: =VLOOKUP($C$6,Sheet2!$A$3:$L$19,4) -> G | F29: =VLOOKUP($C$6,Sheet2!$A$3:$L$19,5) -> G# | G29: =VLOOKUP($C$6,Sheet2!$A$3:$L$19,6) -> A | H29: =VLOOKUP($C$6,Sheet2!$A$3:$L$19,9) -> C | I29: =VLOOKUP($C$6,Sheet2!$A$3:$L$19,11) -> D | L29: 1 - b2 - b3 - 4 - b5 - b6 -b7 | O29: Min | P29: Min 7 | Q29: b9/#9 | R29: #11 | S29: b13
B31: HARMONIC MINOR | C31: 1 | D31: 2 | E31: 3 | F31: 4 | G31: 5 | H31: 6 | I31: 7 | L31: Scale Degrees | O31: TRIAD | P31: 7th Chord | Q31: Extensions
A32: 1 | B32: Harmonic Minor | C32: =VLOOKUP($C$6,Sheet2!$A$3:$L$19,1) -> E | D32: =VLOOKUP($C$6,Sheet2!$A$3:$L$19,3) -> F# | E32: =VLOOKUP($C$6,Sheet2!$A$3:$L$19,4) -> G | F32: =VLOOKUP($C$6,Sheet2!$A$3:$L$19,6) -> A | G32: =VLOOKUP($C$6,Sheet2!$A$3:$L$19,8) -> B | H32: =VLOOKUP($C$6,Sheet2!$A$3:$L$19,9) -> C | I32: =VLOOKUP($C$6,Sheet2!$A$3:$L$19,12) -> D# | L32: 1 - 2 - b3 - 4 - 5 - b6 -7 | O32: Min | P32: Min/Maj 7 | Q32: 9 | R32: 11 | S32: b13
A33: 2 | B33: Locrian #6 | C33: =VLOOKUP($C$6,Sheet2!$A$3:$L$19,1) -> E | D33: =VLOOKUP($C$6,Sheet2!$A$3:$L$19,2) -> F | E33: =VLOOKUP($C$6,Sheet2!$A$3:$L$19,4) -> G | F33: =VLOOKUP($C$6,Sheet2!$A$3:$L$19,6) -> A | G33: =VLOOKUP($C$6,Sheet2!$A$3:$L$19,8) -> B | H33: =VLOOKUP($C$6,Sheet2!$A$3:$L$19,10) -> C# | I33: =VLOOKUP($C$6,Sheet2!$A$3:$L$19,11) -> D | L33: 1 - b2 - b3 - 4 - b5 - 6 -b7 | O33: Min | P33: Min 7 | Q33: b9 | R33: 11 | S33: 13
A34: 3 | B34: Ionian #5 | C34: =VLOOKUP($C$6,Sheet2!$A$3:$L$19,1) -> E | D34: =VLOOKUP($C$6,Sheet2!$A$3:$L$19,3) -> F# | E34: =VLOOKUP($C$6,Sheet2!$A$3:$L$19,5) -> G# | F34: =VLOOKUP($C$6,Sheet2!$A$3:$L$19,6) -> A | G34: =VLOOKUP($C$6,Sheet2!$A$3:$L$19,9) -> C | H34: =VLOOKUP($C$6,Sheet2!$A$3:$L$19,10) -> C# | I34: =VLOOKUP($C$6,Sheet2!$A$3:$L$19,12) -> D# | L34: 1 - 2 - 3 - 4 - #5 - 6 -7 | O34: Aug | P34: Aug Maj 7 | Q34: 9 | R34: 11 | S34: 13
A35: 4 | B35: Dorian #4 | C35: =VLOOKUP($C$6,Sheet2!$A$3:$L$19,1) -> E | D35: =VLOOKUP($C$6,Sheet2!$A$3:$L$19,3) -> F# | E35: =VLOOKUP($C$6,Sheet2!$A$3:$L$19,4) -> G | F35: =VLOOKUP($C$6,Sheet2!$A$3:$L$19,7) -> A# | G35: =VLOOKUP($C$6,Sheet2!$A$3:$L$19,8) -> B | H35: =VLOOKUP($C$6,Sheet2!$A$3:$L$19,10) -> C# | I35: =VLOOKUP($C$6,Sheet2!$A$3:$L$19,11) -> D | L35: 1 - 2 - b3 - #4 - 5 - 6 -b7 | O35: Min | P35: Dom 7 | Q35: 9 | R35: 11 | S35: 13
A36: 5 | B36: Mixolydian b2 b6 / Phry #3 | C36: =VLOOKUP($C$6,Sheet2!$A$3:$L$19,1) -> E | D36: =VLOOKUP($C$6,Sheet2!$A$3:$L$19,2) -> F | E36: =VLOOKUP($C$6,Sheet2!$A$3:$L$19,5) -> G# | F36: =VLOOKUP($C$6,Sheet2!$A$3:$L$19,6) -> A | G36: =VLOOKUP($C$6,Sheet2!$A$3:$L$19,8) -> B | H36: =VLOOKUP($C$6,Sheet2!$A$3:$L$19,9) -> C | I36: =VLOOKUP($C$6,Sheet2!$A$3:$L$19,11) -> D | L36: 1 - b2 - 3 - 4 - 5 - b6 -b7 | O36: Maj | P36: Dom 7 | Q36: b9 | R36: 11 | S36: b13
A37: 6 | B37: Lydian #2 | C37: =VLOOKUP($C$6,Sheet2!$A$3:$L$19,1) -> E | D37: =VLOOKUP($C$6,Sheet2!$A$3:$L$19,4) -> G | E37: =VLOOKUP($C$6,Sheet2!$A$3:$L$19,5) -> G# | F37: =VLOOKUP($C$6,Sheet2!$A$3:$L$19,6) -> A | G37: =VLOOKUP($C$6,Sheet2!$A$3:$L$19,8) -> B | H37: =VLOOKUP($C$6,Sheet2!$A$3:$L$19,10) -> C# | I37: =VLOOKUP($C$6,Sheet2!$A$3:$L$19,12) -> D# | L37: 1 - #2 - 3 - #4 - 5 - 6 -7 | O37: Maj | P37: Maj 7 | Q37: #9 | R37: #11 | S37: 13
A38: 7 | B38: Super Locrian bb7 | C38: =VLOOKUP($C$6,Sheet2!$A$3:$L$19,1) -> E | D38: =VLOOKUP($C$6,Sheet2!$A$3:$L$19,2) -> F | E38: =VLOOKUP($C$6,Sheet2!$A$3:$L$19,4) -> G | F38: =VLOOKUP($C$6,Sheet2!$A$3:$L$19,5) -> G# | G38: =VLOOKUP($C$6,Sheet2!$A$3:$L$19,7) -> A# | H38: =VLOOKUP($C$6,Sheet2!$A$3:$L$19,9) -> C | I38: =VLOOKUP($C$6,Sheet2!$A$3:$L$19,10) -> C# | L38: 1 - b2 - b3 - b4 - b5 - b6 - bb7 | O38: Dim | P38: Dim 6 | Q38: b9 | R38: b11 | S38: b13
B40: HARMONIC MAJOR | C40: 1 | D40: 2 | E40: 3 | F40: 4 | G40: 5 | H40: 6 | I40: 7 | L40: Scale Degrees | O40: TRIAD | P40: 7th Chord | Q40: Extensions
A41: 1 | B41: Harmonic Major | C41: =VLOOKUP($C$6,Sheet2!$A$3:$L$19,1) -> E | D41: =VLOOKUP($C$6,Sheet2!$A$3:$L$19,3) -> F# | E41: =VLOOKUP($C$6,Sheet2!$A$3:$L$19,5) -> G# | F41: =VLOOKUP($C$6,Sheet2!$A$3:$L$19,6) -> A | G41: =VLOOKUP($C$6,Sheet2!$A$3:$L$19,8) -> B | H41: =VLOOKUP($C$6,Sheet2!$A$3:$L$19,9) -> C | I41: =VLOOKUP($C$6,Sheet2!$A$3:$L$19,12) -> D# | L41: 1 - 2 - 3 - 4 - 5 - b6 -7 | O41: Maj | P41: Maj 7 | Q41: 9 | R41: 11 | S41: b13
A42: 2 | B42: Dorian b5 | C42: =VLOOKUP($C$6,Sheet2!$A$3:$L$19,1) -> E | D42: =VLOOKUP($C$6,Sheet2!$A$3:$L$19,3) -> F# | E42: =VLOOKUP($C$6,Sheet2!$A$3:$L$19,4) -> G | F42: =VLOOKUP($C$6,Sheet2!$A$3:$L$19,6) -> A | G42: =VLOOKUP($C$6,Sheet2!$A$3:$L$19,7) -> A# | H42: =VLOOKUP($C$6,Sheet2!$A$3:$L$19,10) -> C# | I42: =VLOOKUP($C$6,Sheet2!$A$3:$L$19,11) -> D | L42: 1 - 2 - b3 - 4 - b5 - 6 -b7 | O42: Dim | P42: Dim 7 | Q42: 9 | R42: 11 | S42: 13
A43: 3 | B43: Phrygian b4 | C43: =VLOOKUP($C$6,Sheet2!$A$3:$L$19,1) -> E | D43: =VLOOKUP($C$6,Sheet2!$A$3:$L$19,2) -> F | E43: =VLOOKUP($C$6,Sheet2!$A$3:$L$19,4) -> G | F43: =VLOOKUP($C$6,Sheet2!$A$3:$L$19,5) -> G# | G43: =VLOOKUP($C$6,Sheet2!$A$3:$L$19,8) -> B | H43: =VLOOKUP($C$6,Sheet2!$A$3:$L$19,9) -> C | I43: =VLOOKUP($C$6,Sheet2!$A$3:$L$19,11) -> D | L43: 1 - b2 - b3 - b4 - 5 - b6 -b7 | O43: Min | P43: Min 7 | Q43: b9 | R43: 11 | S43: b13
A44: 4 | B44: Lydian b3 | C44: =VLOOKUP($C$6,Sheet2!$A$3:$L$19,1) -> E | D44: =VLOOKUP($C$6,Sheet2!$A$3:$L$19,3) -> F# | E44: =VLOOKUP($C$6,Sheet2!$A$3:$L$19,4) -> G | F44: =VLOOKUP($C$6,Sheet2!$A$3:$L$19,7) -> A# | G44: =VLOOKUP($C$6,Sheet2!$A$3:$L$19,8) -> B | H44: =VLOOKUP($C$6,Sheet2!$A$3:$L$19,10) -> C# | I44: =VLOOKUP($C$6,Sheet2!$A$3:$L$19,12) -> D# | L44: 1 - 2 - b3 - #4 - 5 - 6 -7 | O44: Min | P44: Min/Maj7 | Q44: 9 | R44: #11 | S44: 13
A45: 5 | B45: Mixolydian b2 | C45: =VLOOKUP($C$6,Sheet2!$A$3:$L$19,1) -> E | D45: =VLOOKUP($C$6,Sheet2!$A$3:$L$19,2) -> F | E45: =VLOOKUP($C$6,Sheet2!$A$3:$L$19,5) -> G# | F45: =VLOOKUP($C$6,Sheet2!$A$3:$L$19,6) -> A | G45: =VLOOKUP($C$6,Sheet2!$A$3:$L$19,8) -> B | H45: =VLOOKUP($C$6,Sheet2!$A$3:$L$19,10) -> C# | I45: =VLOOKUP($C$6,Sheet2!$A$3:$L$19,11) -> D | L45: 1 - b2 - 3 - 4 - 5 - 6 -b7 | O45: Maj | P45: Dom 7 | Q45: b9 | R45: 11 | S45: 13
A46: 6 | B46: Lydian Augmented #2 | C46: =VLOOKUP($C$6,Sheet2!$A$3:$L$19,1) -> E | D46: =VLOOKUP($C$6,Sheet2!$A$3:$L$19,4) -> G | E46: =VLOOKUP($C$6,Sheet2!$A$3:$L$19,5) -> G# | F46: =VLOOKUP($C$6,Sheet2!$A$3:$L$19,7) -> A# | G46: =VLOOKUP($C$6,Sheet2!$A$3:$L$19,9) -> C | H46: =VLOOKUP($C$6,Sheet2!$A$3:$L$19,10) -> C# | I46: =VLOOKUP($C$6,Sheet2!$A$3:$L$19,12) -> D# | L46: 1 - #2 - 3 - #4 - #5 - 6 -7 | O46: Maj | P46: Maj 7 | Q46: #9 | R46: #11 | S46: 13
A47: 7 | B47: Locrian #7 | C47: =VLOOKUP($C$6,Sheet2!$A$3:$L$19,1) -> E | D47: =VLOOKUP($C$6,Sheet2!$A$3:$L$19,2) -> F | E47: =VLOOKUP($C$6,Sheet2!$A$3:$L$19,4) -> G | F47: =VLOOKUP($C$6,Sheet2!$A$3:$L$19,6) -> A | G47: =VLOOKUP($C$6,Sheet2!$A$3:$L$19,7) -> A# | H47: =VLOOKUP($C$6,Sheet2!$A$3:$L$19,9) -> C | I47: =VLOOKUP($C$6,Sheet2!$A$3:$L$19,12) -> D# | L47: 1 - b2 - b3 - 4 - b5 - b6 -7 | O47: Dim | P47: Dim 7 | Q47: b9 | R47: 11 | S47: #13
B49: DIMINISHED | C49: 1 | D49: 2 | E49: 3 | F49: 4 | G49: 5 | H49: 6 | I49: 7 | J49: 8 | L49: Scale Degrees | O49: TRIAD | P49: 7th Chord | Q49: Extensions
A50: 1 | B50: Half Step / Whole Step | C50: =VLOOKUP($C$6,Sheet2!$A$3:$L$19,1) -> E | D50: =VLOOKUP($C$6,Sheet2!$A$3:$L$19,2) -> F | E50: =VLOOKUP($C$6,Sheet2!$A$3:$L$19,4) -> G | F50: =VLOOKUP($C$6,Sheet2!$A$3:$L$19,5) -> G# | G50: =VLOOKUP($C$6,Sheet2!$A$3:$L$19,7) -> A# | H50: =VLOOKUP($C$6,Sheet2!$A$3:$L$19,8) -> B | I50: =VLOOKUP($C$6,Sheet2!$A$3:$L$19,10) -> C# | J50: =VLOOKUP($C$6,Sheet2!$A$3:$L$19,11) -> D | L50: 1 - b2 - #2 - 3 - #4 -5 - 6 - b7 | O50: Maj | P50: Dom 7 | Q50: b9/#9 | R50: #11 | S50: 13
...

Sheet Sheet2
A1: R | B1: b2 | C1: 2 | D1: b3 | E1: 3 | F1: 4 | G1: b5 | H1: 5 | I1: b6 | J1: 6 | K1: b7 | L1: 7
A2: 1 | B2: 2 | C2: 3 | D2: 4 | E2: 5 | F2: 6 | G2: 7 | H2: 8 | I2: 9 | J2: 10 | K2: 11 | L2: 12
A3: A | B3: Bb | C3: B | D3: C | E3: C# | F3: D | G3: D# | H3: E | I3: F | J3: F# | K3: G | L3: G#
A4: A# | B4: B | C4: C | D4: C# | E4: D | F4: D# | G4: E | H4: F | I4: F# | J4: G | K4: G# | L4: A
A5: Ab | B5: A | C5: Bb | D5: B | E5: C | F5: Db | G5: D | H5: Eb | I5: E | J5: F | K5: Gb | L5: G
A6: B | B6: C | C6: C# | D6: D | E6: D# | F6: E | G6: F | H6: F# | I6: G | J6: G# | K6: A | L6: A#
A7: Bb | B7: B | C7: C | D7: Db | E7: D | F7: Eb | G7: E | H7: F | I7: Gb | J7: G | K7: Ab | L7: A
A8: C | B8: Db | C8: D | D8: Eb | E8: E | F8: F | G8: F# | H8: G | I8: Ab | J8: A | K8: Bb | L8: B
A9: C# | B9: D | C9: D# | D9: E | E9: F | F9: F# | G9: G | H9: G# | I9: A | J9: Bb | K9: B | L9: C
A10: D | B10: D# | C10: E | D10: F | E10: F# | F10: G | G10: G# | H10: A | I10: Bb | J10: B | K10: C | L10: C#
A11: D# | B11: E | C11: F | D11: F# | E11: G | F11: G# | G11: A | H11: A# | I11: B | J11: C | K11: C# | L11: D
A12: Db | B12: D | C12: Eb | D12: E | E12: F | F12: Gb | G12: G | H12: Ab | I12: A | J12: Bb | K12: B | L12: C
A13: E | B13: F | C13: F# | D13: G | E13: G# | F13: A | G13: A# | H13: B | I13: C | J13: C# | K13: D | L13: D#
A14: Eb | B14: E | C14: F | D14: Gb | E14: G | F14: Ab | G14: A | H14: Bb | I14: B | J14: C | K14: Db | L14: D
... A19: Gb | B19: G | C19: Ab | D19: A | E19: Bb | F19: B | G19: C | H19: Db | I19: D | J19: Eb | K19: E | L19: F
